BEGIN:VCALENDAR
VERSION:2.0
PRODID:-//eventon.com NONSGML v1.0//EN
CALSCALE:GREGORIAN
METHOD:PUBLISH
BEGIN:VEVENT
UID:69e64de266b59
DTSTAMP:20260420T160138Z
DTSTART:20260718T080000Z
DTEND:20260718T103000Z
LOCATION:
SUMMARY:Plukgeluk & Waterpret
DESCRIPTION:Rondvaart met onderweg stop bij Slow Flower Pluktuin\,  waar u 
 uw eigen boeket kunt plukken. Vertrek om 10.00 uur vanaf Tuinen van Boskoop
 \,  VVV Boskoop\,  Reijerskoop 72. Ca. 12.30 uur weer terug op Tuinen van B
 oskoop. Prijs rondvaart: € 14\, 50 p.p.\,  plukbloemen € 1\, -- per ste
 el (af te rekenen direct[..]\nhttps://vvvboskoop.nl/events/plukgeluk-waterp
 ret-3/
URL:https://vvvboskoop.nl/events/plukgeluk-waterpret-3/
END:VEVENT
END:VCALENDAR