BEGIN:VCALENDAR
VERSION:2.0
PRODID:-//eventon.com NONSGML v1.0//EN
CALSCALE:GREGORIAN
METHOD:PUBLISH
BEGIN:VEVENT
UID:69e6668fa2ed9
DTSTAMP:20260420T174655Z
DTSTART:20260411T113000Z
DTEND:20260411T124000Z
LOCATION:
SUMMARY:Rondvaart vanaf Aceretum (Rijneveld 68)
DESCRIPTION:Rondvaart langs de kwekerijen van Boskoop\,  vertrek 13.30 uur 
 vanaf Aceretum (Plantentuin Esveld\,  Rijneveld 68). Ca. 1¼ uur\,  volwass
 enen € 11\, 50 p.p.\,  kinderen t/m 12 jaar €7\, 50 p.p. RESERVEER HIER
 \nhttps://vvvboskoop.nl/events/rondvaart-vanaf-aceretum-rijneveld-68/
URL:https://vvvboskoop.nl/events/rondvaart-vanaf-aceretum-rijneveld-68/
END:VEVENT
END:VCALENDAR