BEGIN:VCALENDAR
VERSION:2.0
PRODID:-//eventon.com NONSGML v1.0//EN
CALSCALE:GREGORIAN
METHOD:PUBLISH
BEGIN:VEVENT
UID:69e653d34ef3d
DTSTAMP:20260420T162659Z
DTSTART:20260704T120000Z
DTEND:20260704T143000Z
LOCATION:
SUMMARY:Themarondvaart Waterside Garden
DESCRIPTION:Vertrek om 14.00 uur vanaf VVV Boskoop (Reijerskoop 72)\,  vaar
 tocht naar Waterside Garden\,  aldaar rondleiding door de tuin\,  koffie/th
 ee met heel wat lekkers\,  vervolg van de rondvaart\,  rond 16.30 uur weer 
 aanmeren bij Tuinen van Boskoop. Waterside Garden is een landschapstuin gel
 egen op een schiereiland nabij het natuurgebied De Lansing[..]\nhttps://vvv
 boskoop.nl/events/themarondvaart-waterside-garden-8/
URL:https://vvvboskoop.nl/events/themarondvaart-waterside-garden-8/
END:VEVENT
END:VCALENDAR