BEGIN:VCALENDAR
VERSION:2.0
PRODID:-//eventon.com NONSGML v1.0//EN
CALSCALE:GREGORIAN
METHOD:PUBLISH
BEGIN:VEVENT
UID:69e6528b5f19c
DTSTAMP:20260420T162131Z
DTSTART:20260502T120000Z
DTEND:20260502T143000Z
LOCATION:
SUMMARY:Themarondvaart Waterside Garden
DESCRIPTION:Vertrek om 14.00 uur vanaf VVV Boskoop/Tuinen van Boskoop\,  va
 artocht naar Waterside Garden\,  aldaar rondleiding door de tuin\,  koffie/
 thee met heel wat lekkers\,  vervolg van de rondvaart\,  rond 16.30 uur wee
 r aanmeren op Tuinen van Boskoop. Waterside Garden is een landschapstuin ge
 legen op een schiereiland nabij het natuurgebied De Lansing[..]\nhttps://vv
 vboskoop.nl/events/themarondvaart-waterside-garden-copy-3/
URL:https://vvvboskoop.nl/events/themarondvaart-waterside-garden-copy-3/
END:VEVENT
END:VCALENDAR